BEGIN:VCALENDAR
VERSION:2.0
PRODID:-//Apex-Brasil
CALSCALE:GREGORIAN
X-WR-CALNAME:Apex-Brasil
BEGIN:VEVENT
CLASS:PUBLIC
CREATED:20260421T233409Z
UID:20628352-0c3f-41c1-ab04-7c417f815c6d
DTSTART;VALUE=DATE:20170118T020000Z
DTEND:20170119T020000Z
SUMMARY;LANGUAGE=pt-br:2ND Mexico infrastructure projects forum
DESCRIPTION:É um Fórum exclusivo que oferece uma combinação única de painéis de discussão crítica em profundidade, apresenta projetos, oportunidades de networking  e sessões de redes informais. Todas as questões giram em torno de infra-estrutura do México: - energia, Oil & Gas e oportunidades em transportes.
LOCATION:Monterrey, , México
URL;VALUE=URI:https://portal.apexbrasil.com.br/evento/2nd-mexico-infrastructure-projects-forum/
TRANSP:OPAQUE
BEGIN:VALARM
ACTION:DISPLAY
TRIGGER;VALUE=DATE-TIME:20170118T020000Z
DESCRIPTION:Lembrete para 2ND Mexico infrastructure projects forum
END:VALARM
END:VEVENT
END:VCALENDAR
		