BEGIN:VCALENDAR
VERSION:2.0
PRODID:-//Apex-Brasil
CALSCALE:GREGORIAN
X-WR-CALNAME:Apex-Brasil
BEGIN:VEVENT
CLASS:PUBLIC
CREATED:20260422T105534Z
UID:6638ce48-866e-4869-82f7-3a6a53d3c7ba
DTSTART;VALUE=DATE:20140917T030000Z
DTEND:20140919T030000Z
SUMMARY;LANGUAGE=pt-br:AIRTEC Frankfurt 2014
DESCRIPTION:Acesso as novas tendências de mercado, concorrência, expansão de networking e busca possibilidades de parceira no setor aeroespacial.
LOCATION:, , 
URL;VALUE=URI:https://portal.apexbrasil.com.br/evento/airtec-frankfurt-2014/
TRANSP:OPAQUE
BEGIN:VALARM
ACTION:DISPLAY
TRIGGER;VALUE=DATE-TIME:20140917T030000Z
DESCRIPTION:Lembrete para AIRTEC Frankfurt 2014
END:VALARM
END:VEVENT
END:VCALENDAR
		