BEGIN:VCALENDAR
VERSION:2.0
PRODID:-//Apex-Brasil
CALSCALE:GREGORIAN
X-WR-CALNAME:Apex-Brasil
BEGIN:VEVENT
CLASS:PUBLIC
CREATED:20260421T122156Z
UID:e5b96052-5092-49b9-a927-7278ef117806
DTSTART;VALUE=DATE:20160831T030000Z
DTEND:20160902T030000Z
SUMMARY;LANGUAGE=pt-br:All China Leather Exhibition
DESCRIPTION:A ACLE apresenta todos os tipos de couro (peles, couros salgados, Wet Blue, semiacabados, acabados e exóticos), materiais sintéticos, produtos químicos, componentes & acessórios, equipamentos, máquinas para calçados, máquinas para curtumes, serviços e tecnologias.
A edição de 2015 teve uma área de exposição de 92.000 m2 e a participação de 1.044 expositores, vindos de 37 países e regiões e 23.024 visitantes.
LOCATION:Xangai, , China
URL;VALUE=URI:https://portal.apexbrasil.com.br/evento/all-china-leather-exhibition0/
TRANSP:OPAQUE
BEGIN:VALARM
ACTION:DISPLAY
TRIGGER;VALUE=DATE-TIME:20160831T030000Z
DESCRIPTION:Lembrete para All China Leather Exhibition
END:VALARM
END:VEVENT
END:VCALENDAR
		