BEGIN:VCALENDAR
VERSION:2.0
PRODID:-//Apex-Brasil
CALSCALE:GREGORIAN
X-WR-CALNAME:Apex-Brasil
BEGIN:VEVENT
CLASS:PUBLIC
CREATED:20260421T055138Z
UID:5b07ad2c-64fc-4094-bacc-66acf39ca8d4
DTSTART;VALUE=DATE:20240227T000000Z
DTEND:20240229T000000Z
SUMMARY;LANGUAGE=pt-br:ApexBrasil +Feiras EUROCIS 2024
DESCRIPTION:<div data-wrapper="true" dir="ltr" style="font-size:16px;font-family:;"><div>Neste 2o semestre, o programa ApexBrasil +Feiras apoiará a participação de empresas brasileiras na feira internacional EUROCIS 2024.</div></div>
LOCATION:Düsseldorf, , ALEMANHA
URL;VALUE=URI:https://portal.apexbrasil.com.br/evento/apexbrasil-feiras-eurocis-2024/
TRANSP:OPAQUE
BEGIN:VALARM
ACTION:DISPLAY
TRIGGER;VALUE=DATE-TIME:20240227T000000Z
DESCRIPTION:Lembrete para ApexBrasil +Feiras EUROCIS 2024
END:VALARM
END:VEVENT
END:VCALENDAR
		