BEGIN:VCALENDAR
VERSION:2.0
PRODID:-//Apex-Brasil
CALSCALE:GREGORIAN
X-WR-CALNAME:Apex-Brasil
BEGIN:VEVENT
CLASS:PUBLIC
CREATED:20260421T150505Z
UID:6f654e28-89fd-440f-a345-ce8053aea0b1
DTSTART;VALUE=DATE:20170222T030000Z
DTEND:20170226T030000Z
SUMMARY;LANGUAGE=pt-br:ARCOmadrid 2017
DESCRIPTION:Tradicional feira de arte contemporânea europeia, a ARCOmadrid - Feria Internacional de Arte Contemporáneo é o evento em parte responsável pela introdução da arte brasileira no continente europeu. Entre as feiras internacionais, é a que apresenta a participação mais longeva de galerias brasileiras. Tem excelente reputação não só entre compradores, mas sobretudo entre formadores de opinião e especialistas por organizar Fóruns e Encontros Profissionais dentro da sua programação.
LOCATION:Madrid, , Espanha
URL;VALUE=URI:https://portal.apexbrasil.com.br/evento/arcomadrid-2017/
TRANSP:OPAQUE
BEGIN:VALARM
ACTION:DISPLAY
TRIGGER;VALUE=DATE-TIME:20170222T030000Z
DESCRIPTION:Lembrete para ARCOmadrid 2017
END:VALARM
END:VEVENT
END:VCALENDAR
		