BEGIN:VCALENDAR
VERSION:2.0
PRODID:-//Apex-Brasil
CALSCALE:GREGORIAN
X-WR-CALNAME:Apex-Brasil
BEGIN:VEVENT
CLASS:PUBLIC
CREATED:20260423T090646Z
UID:0af77185-f637-472c-a34a-e0cf12389503
DTSTART;VALUE=DATE:20201021T030000Z
DTEND:20201127T030000Z
SUMMARY;LANGUAGE=pt-br:Brasil Agritech Online 2020
DESCRIPTION:O Brasil Agritech Online 2020 é uma oportunidade criada por meio da cooperação entre a Apex-Brasil, o Ministério das Relações Exteriores e o parceiro Plug and Play China (https://www.plugandplaytechcenter.com/).
A ação conjunta traz uma oportunidade para interação entre empresas brasileiras de base tecnológica agrícola com perfil escalável e especialistas do Plug and Play China. 
Além disto, a aceleradora chinesa avaliará individualmente o potencial de cada Agritech à participação em seu programa de aceleração, e em casos considerados por eles como especialmente potenciais, a Agritech poderia, eventualmente, ter seu pitch apresentado para investidores do fundo de venture capital da Plug and Play China. 
LOCATION:Brasília, Distrito Federal, BRASIL
URL;VALUE=URI:https://portal.apexbrasil.com.br/evento/brasil-agritech-online-2020/
TRANSP:OPAQUE
BEGIN:VALARM
ACTION:DISPLAY
TRIGGER;VALUE=DATE-TIME:20201021T030000Z
DESCRIPTION:Lembrete para Brasil Agritech Online 2020
END:VALARM
END:VEVENT
END:VCALENDAR
		