BEGIN:VCALENDAR
VERSION:2.0
PRODID:-//Apex-Brasil
CALSCALE:GREGORIAN
X-WR-CALNAME:Apex-Brasil
BEGIN:VEVENT
CLASS:PUBLIC
CREATED:20260423T090551Z
UID:6ad9b0f8-07a3-4a3d-87d1-cf6550992362
DTSTART;VALUE=DATE:20160913T030000Z
DTEND:20160916T030000Z
SUMMARY;LANGUAGE=pt-br:Brasil Week São Francisco
DESCRIPTION:Missão de imersão de 10 startups brasileiras no Vale do Silício, terminando com a realização de Demo Day para investidores estrangeiros. Realização de evento  VC in Brazil da ABVCAP para aproximar gestores de venture capital brasileiros e norte-americanos, com vistas a coinvestimento. Realização do seminário Brazil in the 21st Century, em parceria com a Bay Brazil, para aumentar a visibilidade do país no Vale.
LOCATION:San Francisco, , Estados Unidos
URL;VALUE=URI:https://portal.apexbrasil.com.br/evento/brasil-week-sao-francisco/
TRANSP:OPAQUE
BEGIN:VALARM
ACTION:DISPLAY
TRIGGER;VALUE=DATE-TIME:20160913T030000Z
DESCRIPTION:Lembrete para Brasil Week São Francisco
END:VALARM
END:VEVENT
END:VCALENDAR
		