BEGIN:VCALENDAR
VERSION:2.0
PRODID:-//Apex-Brasil
CALSCALE:GREGORIAN
X-WR-CALNAME:Apex-Brasil
BEGIN:VEVENT
CLASS:PUBLIC
CREATED:20260422T105514Z
UID:20bc6054-b924-400c-ba79-e8a6e4f0adbd
DTSTART;VALUE=DATE:20220825T000000Z
DTEND:20220907T000000Z
SUMMARY;LANGUAGE=pt-br:BRAZIL FLAVOURS EXPERIENCE - LONDRES 2022
DESCRIPTION:Espaço físico montado de forma temporária (de 25 de agosto a 7 de setembro) dedicado a reforçar o posicionamento dos produtos brasileiros e proporcionar ativações e ações de relacionamento de negócios. 
Em horários em que não há ações de relacionamento o espaço será aberto ao público interessado para visitação e divulgação das marcas.
A proposta contempla: 
• Apresentação de produtos diretamente ao consumidor com a participação de alimentos e bebidas brasileiros com potencial ativação pelas marcas interessadas; 
• Uso do espaço para, em datas específicas, promover ações de relacionamento e imagem dos produtos brasileiros a um público de negócios e formadores de opinião; e 
• Brazilian Garden Market: minimercado dedicado à exposição de produtos das empresas brasileiras participantes da ação.

Empresas inscritas após o dia 19/06 estarão automaticamente em lista de espera.
LOCATION:Londres, , INGLATERRA
URL;VALUE=URI:https://portal.apexbrasil.com.br/evento/brazil-flavours-experience-londres-2022/
TRANSP:OPAQUE
BEGIN:VALARM
ACTION:DISPLAY
TRIGGER;VALUE=DATE-TIME:20220825T000000Z
DESCRIPTION:Lembrete para BRAZIL FLAVOURS EXPERIENCE - LONDRES 2022
END:VALARM
END:VEVENT
END:VCALENDAR
		