BEGIN:VCALENDAR
VERSION:2.0
PRODID:-//Apex-Brasil
CALSCALE:GREGORIAN
X-WR-CALNAME:Apex-Brasil
BEGIN:VEVENT
CLASS:PUBLIC
CREATED:20260423T095206Z
UID:14527882-7ca1-473e-b5e6-53d16e50f528
DTSTART;VALUE=DATE:20151112T020000Z
DTEND:20151115T020000Z
SUMMARY;LANGUAGE=pt-br:Cafe Show Seoul 2015
DESCRIPTION:Cafe Show Seoul reune em uma exposição os mais importantes players do mercado de café especial da Asia, alem de influentes empresarios mundias. Em paralelo à exposição há uma serie de campeonatos de baristas e palestras visando atrair o publico formador de opinião.
LOCATION:Seoul, , Coréia do Sul
URL;VALUE=URI:https://portal.apexbrasil.com.br/evento/cafe-show-seoul-2015/
TRANSP:OPAQUE
BEGIN:VALARM
ACTION:DISPLAY
TRIGGER;VALUE=DATE-TIME:20151112T020000Z
DESCRIPTION:Lembrete para Cafe Show Seoul 2015
END:VALARM
END:VEVENT
END:VCALENDAR
		