BEGIN:VCALENDAR
VERSION:2.0
PRODID:-//Apex-Brasil
CALSCALE:GREGORIAN
X-WR-CALNAME:Apex-Brasil
BEGIN:VEVENT
CLASS:PUBLIC
CREATED:20260421T133804Z
UID:6962563b-a541-47e1-9145-75207812919f
DTSTART;VALUE=DATE:20220505T000000Z
DTEND:20220505T000000Z
SUMMARY;LANGUAGE=pt-br:cancelada - Oficina de Competitividade online - Planejamento Financeiro Internacional maio/2022
DESCRIPTION:Oficina de Competitividade online - Planejamento Financeiro Internacional maio/2022
Data: 05/05/2022
Horário: das 8:30h às 12:30h
Evento online ao Vivo
*Só serão aceitos os pagamentos realizados por cartão, utilizando o link de pagamento.
LOCATION:Brasília, Distrito Federal, BRASIL
URL;VALUE=URI:https://portal.apexbrasil.com.br/evento/cancelada-oficina-de-competitividade-online-planejamento-financeiro-internacional-maio-2022/
TRANSP:OPAQUE
BEGIN:VALARM
ACTION:DISPLAY
TRIGGER;VALUE=DATE-TIME:20220505T000000Z
DESCRIPTION:Lembrete para cancelada - Oficina de Competitividade online - Planejamento Financeiro Internacional maio/2022
END:VALARM
END:VEVENT
END:VCALENDAR
		