BEGIN:VCALENDAR
VERSION:2.0
PRODID:-//Apex-Brasil
CALSCALE:GREGORIAN
X-WR-CALNAME:Apex-Brasil
BEGIN:VEVENT
CLASS:PUBLIC
CREATED:20260421T113646Z
UID:c55b6120-4345-456e-be73-6286ca4e3bc1
DTSTART;VALUE=DATE:20140925T030000Z
DTEND:20140929T030000Z
SUMMARY;LANGUAGE=pt-br:CERSAIE 2014
DESCRIPTION:A feira CERSAIE é a virtrine mundial do setor cerâmico. Distribuidores, revendedores, arquitetos e decoradores do mundo todo reunem-se em Bolonha, durante o período da CERSAIE para conhecer as novidades da indústria cerâmica mundial.
LOCATION:, , 
URL;VALUE=URI:https://portal.apexbrasil.com.br/evento/cersaie-2014/
TRANSP:OPAQUE
BEGIN:VALARM
ACTION:DISPLAY
TRIGGER;VALUE=DATE-TIME:20140925T030000Z
DESCRIPTION:Lembrete para CERSAIE 2014
END:VALARM
END:VEVENT
END:VCALENDAR
		