BEGIN:VCALENDAR
VERSION:2.0
PRODID:-//Apex-Brasil
CALSCALE:GREGORIAN
X-WR-CALNAME:Apex-Brasil
BEGIN:VEVENT
CLASS:PUBLIC
CREATED:20260423T171112Z
UID:1c3136f8-15f9-4c2f-a4f7-0983377bf727
DTSTART;VALUE=DATE:20140710T030000Z
DTEND:20140910T030000Z
SUMMARY;LANGUAGE=pt-br:CPHI 2014
DESCRIPTION:Sem descrição
LOCATION:, , 
URL;VALUE=URI:https://portal.apexbrasil.com.br/evento/cphi-2014/
TRANSP:OPAQUE
BEGIN:VALARM
ACTION:DISPLAY
TRIGGER;VALUE=DATE-TIME:20140710T030000Z
DESCRIPTION:Lembrete para CPHI 2014
END:VALARM
END:VEVENT
END:VCALENDAR
		