BEGIN:VCALENDAR
VERSION:2.0
PRODID:-//Apex-Brasil
CALSCALE:GREGORIAN
X-WR-CALNAME:Apex-Brasil
BEGIN:VEVENT
CLASS:PUBLIC
CREATED:20260420T222643Z
UID:ae74f5e9-881b-4ea8-8a95-0e062ae71c36
DTSTART;VALUE=DATE:20161018T020000Z
DTEND:20161020T020000Z
SUMMARY;LANGUAGE=pt-br:CPHI Worldwide
DESCRIPTION:O Brazilian Pharma Solutions organiza o pavilhão Brasileiro na feira. No espaço participam as principais companhias da cadeia farmacêutica brasileira. Trata-se da principal ação de promoção comercial do projeto Brazilian Pharma Solutions.

LOCATION:Frankfurt, , Alemanha
URL;VALUE=URI:https://portal.apexbrasil.com.br/evento/cphi-worldwide/
TRANSP:OPAQUE
BEGIN:VALARM
ACTION:DISPLAY
TRIGGER;VALUE=DATE-TIME:20161018T020000Z
DESCRIPTION:Lembrete para CPHI Worldwide
END:VALARM
END:VEVENT
END:VCALENDAR
		