BEGIN:VCALENDAR
VERSION:2.0
PRODID:-//Apex-Brasil
CALSCALE:GREGORIAN
X-WR-CALNAME:Apex-Brasil
BEGIN:VEVENT
CLASS:PUBLIC
CREATED:20260423T102820Z
UID:43ec8eba-6d9b-4deb-88aa-623e52c2200d
DTSTART;VALUE=DATE:20161102T020000Z
DTEND:20161104T020000Z
SUMMARY;LANGUAGE=pt-br:Discop 2016
DESCRIPTION:O mercado conta com cerca de 2000 participantes de mais de 60 países. O evento oferece a área de estandes e também espaço para conferências e networking. É o local ideal para empresários brasileiros interessados em abrir mercados no continente africano.

LOCATION:Joanesburgo, , África do Sul
URL;VALUE=URI:https://portal.apexbrasil.com.br/evento/discop-2016/
TRANSP:OPAQUE
BEGIN:VALARM
ACTION:DISPLAY
TRIGGER;VALUE=DATE-TIME:20161102T020000Z
DESCRIPTION:Lembrete para Discop 2016
END:VALARM
END:VEVENT
END:VCALENDAR
		