BEGIN:VCALENDAR
VERSION:2.0
PRODID:-//Apex-Brasil
CALSCALE:GREGORIAN
X-WR-CALNAME:Apex-Brasil
BEGIN:VEVENT
CLASS:PUBLIC
CREATED:20260423T173238Z
UID:aaa489aa-6d00-4821-9ad7-b4c6aebd39e6
DTSTART;VALUE=DATE:20150817T030000Z
DTEND:20150819T030000Z
SUMMARY;LANGUAGE=pt-br:ENK Project
DESCRIPTION:A ENK Vegas originária da antiga Project Las Vegas, que apresentava moda casual masculina e feminina, desde Agosto de 2013 dividiu-se com a entrada do grupo de investidores ENK, que organizam outras feiras conceituadas, como a Coterie NY.
LOCATION:Las Vegas, , Estados Unidos
URL;VALUE=URI:https://portal.apexbrasil.com.br/evento/enk-project/
TRANSP:OPAQUE
BEGIN:VALARM
ACTION:DISPLAY
TRIGGER;VALUE=DATE-TIME:20150817T030000Z
DESCRIPTION:Lembrete para ENK Project
END:VALARM
END:VEVENT
END:VCALENDAR
		