BEGIN:VCALENDAR
VERSION:2.0
PRODID:-//Apex-Brasil
CALSCALE:GREGORIAN
X-WR-CALNAME:Apex-Brasil
BEGIN:VEVENT
CLASS:PUBLIC
CREATED:20260422T130558Z
UID:2cec3828-43b2-4aba-8beb-3f742d8b91dd
DTSTART;VALUE=DATE:20140818T030000Z
DTEND:20140820T030000Z
SUMMARY;LANGUAGE=pt-br:ENK VEGAS-PROJECT
DESCRIPTION:Exposição de moda feminina, realizada duas vezes por ano (fevereiro e agosto), em Las Vegas. O evento oferece aos retalhistas oportunidade de comprar o melhor em contemporânea, denim e coleções progressistas. Edição primavera-verão.
LOCATION:Las Vegas, , Estados Unidos
URL;VALUE=URI:https://portal.apexbrasil.com.br/evento/enk-vegas-project/
TRANSP:OPAQUE
BEGIN:VALARM
ACTION:DISPLAY
TRIGGER;VALUE=DATE-TIME:20140818T030000Z
DESCRIPTION:Lembrete para ENK VEGAS-PROJECT
END:VALARM
END:VEVENT
END:VCALENDAR
		