BEGIN:VCALENDAR
VERSION:2.0
PRODID:-//Apex-Brasil
CALSCALE:GREGORIAN
X-WR-CALNAME:Apex-Brasil
BEGIN:VEVENT
CLASS:PUBLIC
CREATED:20260424T134018Z
UID:d660084e-f8f8-4b6b-a435-cdb1b6446640
DTSTART;VALUE=DATE:20140916T030000Z
DTEND:20140916T030000Z
SUMMARY;LANGUAGE=pt-br:Evento Internacional Vogue Brazilian Footwear Set/14
DESCRIPTION:A Vogue Brazilian Footwear divulga o potencial criativo, de moda e de design dos associados do Programa. Circulando desde janeiro de 2009, sempre duas vezes ao ano, a publicação tem versões em português e inglês. É distribuída nos principais eventos de moda e nas feiras nacionais e internacionais. 
LOCATION:, , 
URL;VALUE=URI:https://portal.apexbrasil.com.br/evento/evento-internacional-vogue-brazilian-footwear-set-14/
TRANSP:OPAQUE
BEGIN:VALARM
ACTION:DISPLAY
TRIGGER;VALUE=DATE-TIME:20140916T030000Z
DESCRIPTION:Lembrete para Evento Internacional Vogue Brazilian Footwear Set/14
END:VALARM
END:VEVENT
END:VCALENDAR
		