BEGIN:VCALENDAR
VERSION:2.0
PRODID:-//Apex-Brasil
CALSCALE:GREGORIAN
X-WR-CALNAME:Apex-Brasil
BEGIN:VEVENT
CLASS:PUBLIC
CREATED:20260423T103503Z
UID:1ba6a57c-f4d6-46d6-b96c-18673e89c0af
DTSTART;VALUE=DATE:20160907T030000Z
DTEND:20160918T030000Z
SUMMARY;LANGUAGE=pt-br:EXPO PRADO 2016
DESCRIPTION:A feira acontece em Montevidéu, no Uruguai, e consolidou-se como a maior e mais famosa feira agropecuária no país.
A Apex-Brasil realizará duas ações durante a feira para promover a participação dos empresários brasileiros, uma focada nos complexos do agronegócios para intenção comercial imediata e a outra para intenção comercial futura.
LOCATION:Montevidéu, , Uruguai
URL;VALUE=URI:https://portal.apexbrasil.com.br/evento/expo-prado-20160/
TRANSP:OPAQUE
BEGIN:VALARM
ACTION:DISPLAY
TRIGGER;VALUE=DATE-TIME:20160907T030000Z
DESCRIPTION:Lembrete para EXPO PRADO 2016
END:VALARM
END:VEVENT
END:VCALENDAR
		