BEGIN:VCALENDAR
VERSION:2.0
PRODID:-//Apex-Brasil
CALSCALE:GREGORIAN
X-WR-CALNAME:Apex-Brasil
BEGIN:VEVENT
CLASS:PUBLIC
CREATED:20260425T135025Z
UID:b77ddac5-85fe-4ded-98b2-e7eb27225eaa
DTSTART;VALUE=DATE:20150602T030000Z
DTEND:20150604T030000Z
SUMMARY;LANGUAGE=pt-br:Expoelectrica
DESCRIPTION:A Expoelectrica Internacional e a melhor plataforma de negócios para o controle, automação, iluminação, material elétrico. O Brasil participa da Feira Internacional com expositores através do Pavilhão Brasil das verticais automação e energia. Nesta exposição e possível encontrar as principais inovações tecnológicas necessárias para otimizar o consumo de energia e melhorar a automação e controle em diversos processos industriais, comerciais, setor do turismo e do governo no setor da construção.
LOCATION:Cidade do México, , México
URL;VALUE=URI:https://portal.apexbrasil.com.br/evento/expoelectrica/
TRANSP:OPAQUE
BEGIN:VALARM
ACTION:DISPLAY
TRIGGER;VALUE=DATE-TIME:20150602T030000Z
DESCRIPTION:Lembrete para Expoelectrica
END:VALARM
END:VEVENT
END:VCALENDAR
		