BEGIN:VCALENDAR
VERSION:2.0
PRODID:-//Apex-Brasil
CALSCALE:GREGORIAN
X-WR-CALNAME:Apex-Brasil
BEGIN:VEVENT
CLASS:PUBLIC
CREATED:20260421T091402Z
UID:20c04d50-516b-e911-a958-000d3ac01fbd
DTSTART;VALUE=DATE:20190626T030000Z
DTEND:20190628T030000Z
SUMMARY;LANGUAGE=pt-br:EXPOPROVEEDORES - IMPLEMENTOS RODOVIÁRIOS - MÉXICO 2019
DESCRIPTION:A indústria de implementos rodoviários do Brasil vai participar da Expoproveedores del Transporte, em Monterrey, México. A presença no evento é mais uma das ações do programa MoveBrazil coordenado em conjunto pela ANFIR- Associação dos Fabricantes de Implementos Rodoviários e pela Apex-Brasil. 
LOCATION:Cidade do México, , MÉXICO
URL;VALUE=URI:https://portal.apexbrasil.com.br/evento/expoproveedores-implementos-rodoviarios-mexico-2019/
TRANSP:OPAQUE
BEGIN:VALARM
ACTION:DISPLAY
TRIGGER;VALUE=DATE-TIME:20190626T030000Z
DESCRIPTION:Lembrete para EXPOPROVEEDORES - IMPLEMENTOS RODOVIÁRIOS - MÉXICO 2019
END:VALARM
END:VEVENT
END:VCALENDAR
		