BEGIN:VCALENDAR
VERSION:2.0
PRODID:-//Apex-Brasil
CALSCALE:GREGORIAN
X-WR-CALNAME:Apex-Brasil
BEGIN:VEVENT
CLASS:PUBLIC
CREATED:20260423T032636Z
UID:5ef3a177-15b3-4437-962f-583b222df78b
DTSTART;VALUE=DATE:20161024T020000Z
DTEND:20161025T020000Z
SUMMARY;LANGUAGE=pt-br:FEIRA AMERICAS FOOD AND BEVERAGE E PROJETO COMPRADOR EUA
DESCRIPTION:Aumentar o volume de exportação das comerciais exportadoras do setor de alimentos e bebidas com pouca experiência em feiras setoriais norte-americanas.
LOCATION:Miami Beach, , Estados Unidos
URL;VALUE=URI:https://portal.apexbrasil.com.br/evento/feira-americas-food-and-beverage-e-projeto-comprador-eua/
TRANSP:OPAQUE
BEGIN:VALARM
ACTION:DISPLAY
TRIGGER;VALUE=DATE-TIME:20161024T020000Z
DESCRIPTION:Lembrete para FEIRA AMERICAS FOOD AND BEVERAGE E PROJETO COMPRADOR EUA
END:VALARM
END:VEVENT
END:VCALENDAR
		