BEGIN:VCALENDAR
VERSION:2.0
PRODID:-//Apex-Brasil
CALSCALE:GREGORIAN
X-WR-CALNAME:Apex-Brasil
BEGIN:VEVENT
CLASS:PUBLIC
CREATED:20260421T113811Z
UID:67c90d87-ab9b-ea11-a811-000d3ac18841
DTSTART;VALUE=DATE:20200927T030000Z
DTEND:20200930T030000Z
SUMMARY;LANGUAGE=pt-br:Feira Expoplast 2020
DESCRIPTION:A EXPO PLAST PERU 2020 é a porta de entrada para a indústria de plásticos e setores relacionados do Peru. Hoje o setor apresenta como uma das economias com maior evolução neste século na América Latina. Este show foi criado há mais de 14 anos em um ótimo centro de negócios para visitantes nacionais e estrangeiros, e é um dos mais importantes encontros da indústria de plásticos do Pacífico Sul e da América Latina.

LOCATION:Lima, , PERU
URL;VALUE=URI:https://portal.apexbrasil.com.br/evento/feira-expoplast-2020/
TRANSP:OPAQUE
BEGIN:VALARM
ACTION:DISPLAY
TRIGGER;VALUE=DATE-TIME:20200927T030000Z
DESCRIPTION:Lembrete para Feira Expoplast 2020
END:VALARM
END:VEVENT
END:VCALENDAR
		