BEGIN:VCALENDAR
VERSION:2.0
PRODID:-//Apex-Brasil
CALSCALE:GREGORIAN
X-WR-CALNAME:Apex-Brasil
BEGIN:VEVENT
CLASS:PUBLIC
CREATED:20260423T103502Z
UID:c402b347-4681-4269-92a6-1287790fe8d9
DTSTART;VALUE=DATE:20140919T030000Z
DTEND:20140921T030000Z
SUMMARY;LANGUAGE=pt-br:FEIRA INTERNACIONAL COTERIE / SOLE COMMERCE
DESCRIPTION:Logo após a semana de moda de Nova York, é realizada a Coterie - Sole Commerce, feira de moda, com um setor especializado em calçados. A feira não tem o objetivo de venda em grandes volumes, pois trabalha com compradores de butiques ou pequenas redes varejistas. Por ser realizada num período importante para a moda mundial, a feira tem forte apelo midiático e é referência para um trabalho de imagem e consolidação das marcas no mercado americano.
LOCATION:Nova York, , Estados Unidos
URL;VALUE=URI:https://portal.apexbrasil.com.br/evento/feira-internacional-coterie-sole-commerce/
TRANSP:OPAQUE
BEGIN:VALARM
ACTION:DISPLAY
TRIGGER;VALUE=DATE-TIME:20140919T030000Z
DESCRIPTION:Lembrete para FEIRA INTERNACIONAL COTERIE / SOLE COMMERCE
END:VALARM
END:VEVENT
END:VCALENDAR
		