BEGIN:VCALENDAR
VERSION:2.0
PRODID:-//Apex-Brasil
CALSCALE:GREGORIAN
X-WR-CALNAME:Apex-Brasil
BEGIN:VEVENT
CLASS:PUBLIC
CREATED:20260423T110611Z
UID:63422bac-ee56-46a5-b384-b6ece46ca1f9
DTSTART;VALUE=DATE:20150127T020000Z
DTEND:20150129T020000Z
SUMMARY;LANGUAGE=pt-br:FEIRA IPPE EXPO 2015
DESCRIPTION:Principal feira internacional  de máquinas e equipamentos  para o setor avícola realizada nos EUA, com aproximadamente 900 expositores. 
LOCATION:Estados Unidos, , Atlanta
URL;VALUE=URI:https://portal.apexbrasil.com.br/evento/feira-ippe-expo-2015/
TRANSP:OPAQUE
BEGIN:VALARM
ACTION:DISPLAY
TRIGGER;VALUE=DATE-TIME:20150127T020000Z
DESCRIPTION:Lembrete para FEIRA IPPE EXPO 2015
END:VALARM
END:VEVENT
END:VCALENDAR
		