BEGIN:VCALENDAR
VERSION:2.0
PRODID:-//Apex-Brasil
CALSCALE:GREGORIAN
X-WR-CALNAME:Apex-Brasil
BEGIN:VEVENT
CLASS:PUBLIC
CREATED:20260421T113024Z
UID:1bc67d7a-d493-4e0c-8460-9a7df4d12231
DTSTART;VALUE=DATE:20160902T030000Z
DTEND:20160905T030000Z
SUMMARY;LANGUAGE=pt-br:Feira Who's Next Paris set 2016
DESCRIPTION:Who´s Next é uma feira internacional de moda que acontece duas vezes por ano em Porte de Versailles, Paris, nos meses de Janeiro e Setembro. A feira apresenta coleções de vestuário feminino e masculino e moda praia na edição de verão. 

LOCATION:Paris, , França
URL;VALUE=URI:https://portal.apexbrasil.com.br/evento/feira-whos-next-paris-set-2016/
TRANSP:OPAQUE
BEGIN:VALARM
ACTION:DISPLAY
TRIGGER;VALUE=DATE-TIME:20160902T030000Z
DESCRIPTION:Lembrete para Feira Who's Next Paris set 2016
END:VALARM
END:VEVENT
END:VCALENDAR
		