BEGIN:VCALENDAR
VERSION:2.0
PRODID:-//Apex-Brasil
CALSCALE:GREGORIAN
X-WR-CALNAME:Apex-Brasil
BEGIN:VEVENT
CLASS:PUBLIC
CREATED:20260424T002817Z
UID:c4f598de-3b8a-ea11-a811-000d3ac18841
DTSTART;VALUE=DATE:20201007T030000Z
DTEND:20201011T030000Z
SUMMARY;LANGUAGE=pt-br:FENAVI 2020 - FÁRMACOS PARA AVICULTURA
DESCRIPTION:A Fenavi conta com a presença de reconhecidos especialistas nacionais e internacionais e mais de 2.000 participantes. O congresso, liderado pela Federação Nacional de Avicultura da Colômbia - Fenavi, é o cenário ideal para compartilhar as questões atuais da avicultura colombiana, e interagir com a América Latina.
LOCATION:Medellín, , COLÔMBIA
URL;VALUE=URI:https://portal.apexbrasil.com.br/evento/fenavi-2020-farmacos-para-avicultura/
TRANSP:OPAQUE
BEGIN:VALARM
ACTION:DISPLAY
TRIGGER;VALUE=DATE-TIME:20201007T030000Z
DESCRIPTION:Lembrete para FENAVI 2020 - FÁRMACOS PARA AVICULTURA
END:VALARM
END:VEVENT
END:VCALENDAR
		