BEGIN:VCALENDAR
VERSION:2.0
PRODID:-//Apex-Brasil
CALSCALE:GREGORIAN
X-WR-CALNAME:Apex-Brasil
BEGIN:VEVENT
CLASS:PUBLIC
CREATED:20260423T103445Z
UID:824aded9-6668-43db-b6b2-d96cea876087
DTSTART;VALUE=DATE:20180816T030000Z
DTEND:20180819T030000Z
SUMMARY;LANGUAGE=pt-br:FERIA PREMIERE - USA
DESCRIPTION:-
LOCATION:não se aplica, , Estados Unidos
URL;VALUE=URI:https://portal.apexbrasil.com.br/evento/feria-premiere-usa/
TRANSP:OPAQUE
BEGIN:VALARM
ACTION:DISPLAY
TRIGGER;VALUE=DATE-TIME:20180816T030000Z
DESCRIPTION:Lembrete para FERIA PREMIERE - USA
END:VALARM
END:VEVENT
END:VCALENDAR
		