BEGIN:VCALENDAR
VERSION:2.0
PRODID:-//Apex-Brasil
CALSCALE:GREGORIAN
X-WR-CALNAME:Apex-Brasil
BEGIN:VEVENT
CLASS:PUBLIC
CREATED:20260420T195024Z
UID:68ef02e4-689c-4446-934f-61d7821e1a0d
DTSTART;VALUE=DATE:20161126T020000Z
DTEND:20161204T020000Z
SUMMARY;LANGUAGE=pt-br:FIL GUADALAJARA 2016
DESCRIPTION:Ação para fomentar potenciais parcerias de negócios com foco na venda do livro físico por meio de distribuidores locais. A representatividade acontecerá por meio da exposição em estande coletivo, atividades de relacionamento e colóquios com troca de catões e catálogo.
LOCATION:Guadalajara, , México
URL;VALUE=URI:https://portal.apexbrasil.com.br/evento/fil-guadalajara-2016/
TRANSP:OPAQUE
BEGIN:VALARM
ACTION:DISPLAY
TRIGGER;VALUE=DATE-TIME:20161126T020000Z
DESCRIPTION:Lembrete para FIL GUADALAJARA 2016
END:VALARM
END:VEVENT
END:VCALENDAR
		