BEGIN:VCALENDAR
VERSION:2.0
PRODID:-//Apex-Brasil
CALSCALE:GREGORIAN
X-WR-CALNAME:Apex-Brasil
BEGIN:VEVENT
CLASS:PUBLIC
CREATED:20260424T084120Z
UID:ad81308b-4150-444b-9838-5d14f33c908e
DTSTART;VALUE=DATE:20161014T030000Z
DTEND:20161018T020000Z
SUMMARY;LANGUAGE=pt-br:Fizz 2016
DESCRIPTION:O Fizz é um evento voltado exclusivamente para o espumante. Será realizado em Londres no mês de Outubro. O WOB contará com uma mesa onde todos os espumantes das vinícolas brasileiras participantes do projeto poderão estar presentes. A ação consiste em apresentar e realizar degustações desses produtos ao público presente. Contará com a presença de um representante do WOB. 
LOCATION:Londres, , Reino Unido
URL;VALUE=URI:https://portal.apexbrasil.com.br/evento/fizz-2016/
TRANSP:OPAQUE
BEGIN:VALARM
ACTION:DISPLAY
TRIGGER;VALUE=DATE-TIME:20161014T030000Z
DESCRIPTION:Lembrete para Fizz 2016
END:VALARM
END:VEVENT
END:VCALENDAR
		