BEGIN:VCALENDAR
VERSION:2.0
PRODID:-//Apex-Brasil
CALSCALE:GREGORIAN
X-WR-CALNAME:Apex-Brasil
BEGIN:VEVENT
CLASS:PUBLIC
CREATED:20260423T090604Z
UID:b4fb6442-5426-4b19-967f-8d4103bc2f44
DTSTART;VALUE=DATE:20171112T020000Z
DTEND:20171115T020000Z
SUMMARY;LANGUAGE=pt-br:FOODEX SAUDI 2017
DESCRIPTION:Realizada na cidade de Jeddah a Foodex Saudi é a maior feira de alimentos da Arábia Saudita, com um espaço 100% dedicado à indústria de alimentos e bebidas. No ano de 2017 contou com cerca de 8 mil visitantes e com mais de 200 expositores com origem de 32 países e 11 pavilhões internacionais: Argélia, China, Coreia do Sul, Egito, Espanha, Índia, Jordânia, Palestina, Paquistão, Sri Lanka e Turquia.

LOCATION:Jeddah, , Arábia Saudita
URL;VALUE=URI:https://portal.apexbrasil.com.br/evento/foodex-saudi-2017/
TRANSP:OPAQUE
BEGIN:VALARM
ACTION:DISPLAY
TRIGGER;VALUE=DATE-TIME:20171112T020000Z
DESCRIPTION:Lembrete para FOODEX SAUDI 2017
END:VALARM
END:VEVENT
END:VCALENDAR
		