BEGIN:VCALENDAR
VERSION:2.0
PRODID:-//Apex-Brasil
CALSCALE:GREGORIAN
X-WR-CALNAME:Apex-Brasil
BEGIN:VEVENT
CLASS:PUBLIC
CREATED:20260421T113653Z
UID:5e1b9669-e24d-4036-95a2-b999e59cabf0
DTSTART;VALUE=DATE:20140827T030000Z
DTEND:20140829T030000Z
SUMMARY;LANGUAGE=pt-br:GARTNER IT EXPO USA 2014
DESCRIPTION:Evento focado em líderes de TI dos EUA interessados em melhorar seus negócios por intermédio da utilização efetiva de tecnologia da informação a custos competitivos. Perfil dos participantes: CIOs, Senior and Middle Mgmt IT Leaders.CTOs,
LOCATION:Nova York, , Estados Unidos
URL;VALUE=URI:https://portal.apexbrasil.com.br/evento/gartner-it-expo-usa-2014/
TRANSP:OPAQUE
BEGIN:VALARM
ACTION:DISPLAY
TRIGGER;VALUE=DATE-TIME:20140827T030000Z
DESCRIPTION:Lembrete para GARTNER IT EXPO USA 2014
END:VALARM
END:VEVENT
END:VCALENDAR
		