BEGIN:VCALENDAR
VERSION:2.0
PRODID:-//Apex-Brasil
CALSCALE:GREGORIAN
X-WR-CALNAME:Apex-Brasil
BEGIN:VEVENT
CLASS:PUBLIC
CREATED:20260421T111726Z
UID:6a4e3c6a-56e1-4dc1-a4a2-d0cf9f93657e
DTSTART;VALUE=DATE:20160630T030000Z
DTEND:20160630T030000Z
SUMMARY;LANGUAGE=pt-br:Gartner Symposium/ITxpo
DESCRIPTION:Maior e mais importante encontro anual de CIOs e líderes da indústria de TI.  Reúne formadores de opinião, analistas, consultores, executivos com poder decisório em grandes e médias companhias norte-americanas de TI e de diversos países. A exposição das empresas brasileiras no stand Brasil IT divulga a expertise brasileira no segmento e posiciona o Brasil como um provedor internacional de soluções e serviços.

LOCATION:Orlando, , Estados Unidos
URL;VALUE=URI:https://portal.apexbrasil.com.br/evento/gartner-symposium-itxpo0/
TRANSP:OPAQUE
BEGIN:VALARM
ACTION:DISPLAY
TRIGGER;VALUE=DATE-TIME:20160630T030000Z
DESCRIPTION:Lembrete para Gartner Symposium/ITxpo
END:VALARM
END:VEVENT
END:VCALENDAR
		