BEGIN:VCALENDAR
VERSION:2.0
PRODID:-//Apex-Brasil
CALSCALE:GREGORIAN
X-WR-CALNAME:Apex-Brasil
BEGIN:VEVENT
CLASS:PUBLIC
CREATED:20260420T130712Z
UID:d578c6e5-c19b-42b7-b686-790ee3d3fad2
DTSTART;VALUE=DATE:20161026T020000Z
DTEND:20161027T020000Z
SUMMARY;LANGUAGE=pt-br:GRI Infra – 2ª Edição
DESCRIPTION:A Apex-Brasil patrocina a 2ª edição do GRI Infra, plataforma para discutir soluções para gargalos do setor de infraestrutura no Brasil, experiências e oportunidades de negócios. O encontro é direcionado a executivos sênior que mantêm relacionamento e sinergia com os segmentos de aeroportos, energia (geração, transmissão, distribuição e comercialização), ferrovias, hidrovias, infraestrutura social, mobilidade urbana, portos, rodovias, saneamento e resíduos.
LOCATION:São Paulo, SP, 
URL;VALUE=URI:https://portal.apexbrasil.com.br/evento/gri-infra-2-edicao/
TRANSP:OPAQUE
BEGIN:VALARM
ACTION:DISPLAY
TRIGGER;VALUE=DATE-TIME:20161026T020000Z
DESCRIPTION:Lembrete para GRI Infra – 2ª Edição
END:VALARM
END:VEVENT
END:VCALENDAR
		