BEGIN:VCALENDAR
VERSION:2.0
PRODID:-//Apex-Brasil
CALSCALE:GREGORIAN
X-WR-CALNAME:Apex-Brasil
BEGIN:VEVENT
CLASS:PUBLIC
CREATED:20260423T090558Z
UID:a9a9763a-aa6e-4de1-9d16-b798ce73e538
DTSTART;VALUE=DATE:20240219T000000Z
DTEND:20240223T000000Z
SUMMARY;LANGUAGE=pt-br:Gulfood 2024
DESCRIPTION:<div data-wrapper="true" dir="ltr" style="font-size:16px;font-family:;"><div>A Agência Brasileira de Promoção de Exportações e Investimentos (ApexBrasil) convida a sua empresa para participar da GULFOOD 2024, que será realizada entre os dias 19 e 23 de fevereiro de 2024, em Dubai, Emirados Árabes Unidos.<br>
<br>
A região possui uma alta densidade populacional e grande demanda por alimentos devido a restrições geográficas para a produção. Também possui proximidade estratégica dos mercados asiáticos, europeus e africanos, fazendo do Golfo um importante hub.<br>
<br>
Em sua última edição, a Gulfood reuniu mais de 5 mil expositores e recebeu 134.460 visitantes de 195 países. Na ocasião, as empresas brasileiras participantes reportaram uma expectativa de geração de US$ 4,5 bilhões em negócios durante o evento e 12 meses subsequentes.<br>
O evento já está consolidado como a maior feira de alimentos e bebidas do Oriente Médio e tem, cada vez mais, influenciado as tendências do setor.<br>
<br>
O prazo regular para inscrição é 12 de setembro. Inscrições realizadas após esse prazo serão consideradas em lista de espera.<br>
<br>
Acesse aqui as principais mudanças na Gulfood 2024: https://click.apexbrasil.com.br/mkt/feiras/Gulfood/Mudancas_Gulfood_2024.pdf</div></div>
LOCATION:Dubai, , EMIRADOS ÁRABES UNIDOS
URL;VALUE=URI:https://portal.apexbrasil.com.br/evento/gulfood-2024/
TRANSP:OPAQUE
BEGIN:VALARM
ACTION:DISPLAY
TRIGGER;VALUE=DATE-TIME:20240219T000000Z
DESCRIPTION:Lembrete para Gulfood 2024
END:VALARM
END:VEVENT
END:VCALENDAR
		