BEGIN:VCALENDAR
VERSION:2.0
PRODID:-//Apex-Brasil
CALSCALE:GREGORIAN
X-WR-CALNAME:Apex-Brasil
BEGIN:VEVENT
CLASS:PUBLIC
CREATED:20260421T155429Z
UID:c69771ae-dfe8-4755-a354-d8ceee6347ad
DTSTART;VALUE=DATE:20150916T030000Z
DTEND:20150920T030000Z
SUMMARY;LANGUAGE=pt-br:Hong Kong Gems and Jewellery Fair
DESCRIPTION:Principal feira do setor de gemas, de posicionamento, realizada anualmente com compradores e vendedores de todo o Mundo. A Apex-Brasil apoia a participação de empresas em feiras internacionais tem por objetivo divulgar e comercializar os produtos e serviços brasileiros. Os expositores têm a oportunidade de contato com os compradores, formadores de opinião e público internacional especializado.
LOCATION:Hong Kong, , China
URL;VALUE=URI:https://portal.apexbrasil.com.br/evento/hong-kong-gems-and-jewellery-fair/
TRANSP:OPAQUE
BEGIN:VALARM
ACTION:DISPLAY
TRIGGER;VALUE=DATE-TIME:20150916T030000Z
DESCRIPTION:Lembrete para Hong Kong Gems and Jewellery Fair
END:VALARM
END:VEVENT
END:VCALENDAR
		