BEGIN:VCALENDAR
VERSION:2.0
PRODID:-//Apex-Brasil
CALSCALE:GREGORIAN
X-WR-CALNAME:Apex-Brasil
BEGIN:VEVENT
CLASS:PUBLIC
CREATED:20260424T075129Z
UID:4c870285-6cf5-4397-80d1-2fde4c1b4e89
DTSTART;VALUE=DATE:20150310T030000Z
DTEND:20150314T030000Z
SUMMARY;LANGUAGE=pt-br:IDS 2015
DESCRIPTION: Ocorre bienalmente e será a sétima participação brasileira. A estratégia de aumentar o pavilhão brasileiro surgiu devido à grande demanda por stands na edição de 2013. Para a edição de 2015, o pavilhão será de 378m² para 35 empresas expositoras. Realização de evento de relacionamento durante a feira e criação de website exclusivo para agendamento de reuniões com objetivo de promover novos negócios e ampliar a relação com seus clientes internacionais. 
LOCATION:Colonia, , Alemanha
URL;VALUE=URI:https://portal.apexbrasil.com.br/evento/ids-2015/
TRANSP:OPAQUE
BEGIN:VALARM
ACTION:DISPLAY
TRIGGER;VALUE=DATE-TIME:20150310T030000Z
DESCRIPTION:Lembrete para IDS 2015
END:VALARM
END:VEVENT
END:VCALENDAR
		