BEGIN:VCALENDAR
VERSION:2.0
PRODID:-//Apex-Brasil
CALSCALE:GREGORIAN
X-WR-CALNAME:Apex-Brasil
BEGIN:VEVENT
CLASS:PUBLIC
CREATED:20260423T103552Z
UID:52386358-fd90-4a8d-8c8e-387ab5bed8ac
DTSTART;VALUE=DATE:20160201T020000Z
DTEND:20160203T020000Z
SUMMARY;LANGUAGE=pt-br:IILF - India International Leather Fair
DESCRIPTION:A IILF é a principal feira do setor realizada na Índia. Trata-se de uma feira para couros, calçados e componentes, vestuário de couros, artigos de couros e acessórios, selaria e arreios, máquinas e equipamentos e produtos químicos, com compradores do mundo inteiro.
LOCATION:Chennai, , Índia
URL;VALUE=URI:https://portal.apexbrasil.com.br/evento/iilf-india-international-leather-fair/
TRANSP:OPAQUE
BEGIN:VALARM
ACTION:DISPLAY
TRIGGER;VALUE=DATE-TIME:20160201T020000Z
DESCRIPTION:Lembrete para IILF - India International Leather Fair
END:VALARM
END:VEVENT
END:VCALENDAR
		