BEGIN:VCALENDAR
VERSION:2.0
PRODID:-//Apex-Brasil
CALSCALE:GREGORIAN
X-WR-CALNAME:Apex-Brasil
BEGIN:VEVENT
CLASS:PUBLIC
CREATED:20260423T103359Z
UID:705c9eda-8e9d-4ea0-8919-b377b8c53725
DTSTART;VALUE=DATE:20150609T030000Z
DTEND:20150612T030000Z
SUMMARY;LANGUAGE=pt-br:INTERSOLAR 2015, Munich - Germany
DESCRIPTION:Realização de seminário Invest in Brazil – Solar Power  e matchmaking com o intuito de apresentar o cenário de investimentos no setor solar e as perspectivas para os próximos anos. Este é o maior evento do setor no mundo. 
LOCATION:Munique, , Alemanha
URL;VALUE=URI:https://portal.apexbrasil.com.br/evento/intersolar-2015-munich-germany/
TRANSP:OPAQUE
BEGIN:VALARM
ACTION:DISPLAY
TRIGGER;VALUE=DATE-TIME:20150609T030000Z
DESCRIPTION:Lembrete para INTERSOLAR 2015, Munich - Germany
END:VALARM
END:VEVENT
END:VCALENDAR
		