BEGIN:VCALENDAR
VERSION:2.0
PRODID:-//Apex-Brasil
CALSCALE:GREGORIAN
X-WR-CALNAME:Apex-Brasil
BEGIN:VEVENT
CLASS:PUBLIC
CREATED:20260420T124653Z
UID:b150cbbc-9c42-4864-8b28-ed08b3966b2d
DTSTART;VALUE=DATE:20211207T210000Z
DTEND:20211207T210000Z
SUMMARY;LANGUAGE=pt-br:Invest in Brasil - Miami Edition
DESCRIPTION:O Invest in Brasil é uma marca internacional consolidada sobre atração de investimentos estrangeiros no país. Nesse sentido, essa edição segue como um evento que visa proporcionar a audiência estrangeira e nacional a experiência de explorar de forma destacada determinados temas estratégicos. 

Tendo em vista a realização do Invest in Brasil - Miami Edition, evento com a temática principal em real estate, em Miami, organizado pela Apex-Brasil, previsto para ocorrer no dia 8 de dezembro, tenho a honra de convidá-lo para fazer parte da delegação brasileira no evento.

Considerando que o mercado imobiliário é um dos setores que mais se recuperou da crise causada pela pandemia do novo coronavírus, a Apex-Brasil, estrategicamente, inseriu a temática dentre os setores prioritários a fim de potencializar as atrativas oportunidades para os investidores que buscam um cenário otimista e uma boa rentabilidade.

Desta forma, este evento será uma oportunidade única para que investidores estadunidenses conheçam mais detalhes do atual cenário econômico do Brasil, bem como obtenham excelentes informações sobre o setor imobiliário e suas principais oportunidades públicas e privadas disponíveis no mercado brasileiro.

LOCATION:miami, , ESTADOS UNIDOS
URL;VALUE=URI:https://portal.apexbrasil.com.br/evento/invest-in-brasil-miami-edition/
TRANSP:OPAQUE
BEGIN:VALARM
ACTION:DISPLAY
TRIGGER;VALUE=DATE-TIME:20211207T210000Z
DESCRIPTION:Lembrete para Invest in Brasil - Miami Edition
END:VALARM
END:VEVENT
END:VCALENDAR
		