BEGIN:VCALENDAR
VERSION:2.0
PRODID:-//Apex-Brasil
CALSCALE:GREGORIAN
X-WR-CALNAME:Apex-Brasil
BEGIN:VEVENT
CLASS:PUBLIC
CREATED:20260425T183916Z
UID:7858d2bc-14cb-4f7c-a7ee-1857dd799820
DTSTART;VALUE=DATE:20180301T030000Z
DTEND:20180306T030000Z
SUMMARY;LANGUAGE=pt-br:IT4CIO LATAM 2018
DESCRIPTION:O evento IT4CIO Latam é um encontro entre empresas de TI e CiO´s latino-americanos, que durante 4 dias fazem interações promovidas pela empresa IT4CIO. Mais de 75 CIOs latino-americanos presentes, além de reuniões exclusivas de pitch com 50% dos CiO´s presentes. A empresa terá direito a presença no estande institucional Brasil IT+ , além de outras agendas de reunião com os compradores, durante os 4 dias.
LOCATION:Foz do Iguaçu, PR, 
URL;VALUE=URI:https://portal.apexbrasil.com.br/evento/it4cio-latam-2018/
TRANSP:OPAQUE
BEGIN:VALARM
ACTION:DISPLAY
TRIGGER;VALUE=DATE-TIME:20180301T030000Z
DESCRIPTION:Lembrete para IT4CIO LATAM 2018
END:VALARM
END:VEVENT
END:VCALENDAR
		