BEGIN:VCALENDAR
VERSION:2.0
PRODID:-//Apex-Brasil
CALSCALE:GREGORIAN
X-WR-CALNAME:Apex-Brasil
BEGIN:VEVENT
CLASS:PUBLIC
CREATED:20260424T033942Z
UID:80597781-a302-490f-8898-a01f49331b60
DTSTART;VALUE=DATE:20151012T030000Z
DTEND:20151019T020000Z
SUMMARY;LANGUAGE=pt-br:ITMA 2015
DESCRIPTION:Considerada a mais importante feira de exposição de máquinas e equipamentos do mundo para o setor têxtil e vestuário. Ao longo dos anos se tornou um catalisador para as tendências e para  competitividade da indústria têxtil. Possui uma plataforma de negócios orientada para os resultados, orientação essa que reflete diretamente na qualidade dos visitantes. 
LOCATION:Milão, , Itália
URL;VALUE=URI:https://portal.apexbrasil.com.br/evento/itma-2015/
TRANSP:OPAQUE
BEGIN:VALARM
ACTION:DISPLAY
TRIGGER;VALUE=DATE-TIME:20151012T030000Z
DESCRIPTION:Lembrete para ITMA 2015
END:VALARM
END:VEVENT
END:VCALENDAR
		