BEGIN:VCALENDAR
VERSION:2.0
PRODID:-//Apex-Brasil
CALSCALE:GREGORIAN
X-WR-CALNAME:Apex-Brasil
BEGIN:VEVENT
CLASS:PUBLIC
CREATED:20260421T030335Z
UID:8f2a6d72-ad73-4b1d-b134-a43bf69ebafe
DTSTART;VALUE=DATE:20170602T030000Z
DTEND:20170608T030000Z
SUMMARY;LANGUAGE=pt-br:JCK Las Vegas
DESCRIPTION:JCK é a maior e mais importante feira do setor de joias dos Estados Unidos. As marcas brasileiras apoiadas se encontram posicionadas em áreas privilegiadas dentro da feira, ao lado de grandes nomes mundiais, o que demonstra o bom trabalho de posicionamento de seus produtos feito ao longo dos anos.  
Neste evento, além da realização de negócios, são apresentadas tendências e designs inovadores a um público selecionado e formador de opinião con foco na alta joalheria.
LOCATION:Las Vegas, , Estados Unidos
URL;VALUE=URI:https://portal.apexbrasil.com.br/evento/jck-las-vegas0/
TRANSP:OPAQUE
BEGIN:VALARM
ACTION:DISPLAY
TRIGGER;VALUE=DATE-TIME:20170602T030000Z
DESCRIPTION:Lembrete para JCK Las Vegas
END:VALARM
END:VEVENT
END:VCALENDAR
		