BEGIN:VCALENDAR
VERSION:2.0
PRODID:-//Apex-Brasil
CALSCALE:GREGORIAN
X-WR-CALNAME:Apex-Brasil
BEGIN:VEVENT
CLASS:PUBLIC
CREATED:20260420T030130Z
UID:1f6c44be-7347-4b42-b5ed-a96396cb27be
DTSTART;VALUE=DATE:20161014T030000Z
DTEND:20161017T020000Z
SUMMARY;LANGUAGE=pt-br:JIS MIAMI SHOW
DESCRIPTION:Evento tradicional, com três edições anuais, das quais apoiamos as duas principais edições: Janeiro e Outubro. Abrangem todos os segmentos, no entanto, mais focadas ao segmentos de joias de prata, folheadas e bijuterias. Tem um forte público latino sendo certamente um dos principais pontos de abastecimento do varejo da Flórida, México, Caribe, Américas Central e do Sul.
LOCATION:Miami, , Estados Unidos 
URL;VALUE=URI:https://portal.apexbrasil.com.br/evento/jis-miami-show/
TRANSP:OPAQUE
BEGIN:VALARM
ACTION:DISPLAY
TRIGGER;VALUE=DATE-TIME:20161014T030000Z
DESCRIPTION:Lembrete para JIS MIAMI SHOW
END:VALARM
END:VEVENT
END:VCALENDAR
		