BEGIN:VCALENDAR
VERSION:2.0
PRODID:-//Apex-Brasil
CALSCALE:GREGORIAN
X-WR-CALNAME:Apex-Brasil
BEGIN:VEVENT
CLASS:PUBLIC
CREATED:20260423T103518Z
UID:f00e2fea-42d8-44f1-9b2f-f166ff3e445c
DTSTART;VALUE=DATE:20210330T000000Z
DTEND:20210328T210000Z
SUMMARY;LANGUAGE=pt-br:Lançamento do Perfil e Oportunidades de Exportações e Investimentos do DF
DESCRIPTION:A ação tem como objetivo fazer o lançamento oficial do Estudo de Inteligência de Mercado para o DF de 2021. 
LOCATION:Brasília, Distrito Federal, BRASIL
URL;VALUE=URI:https://portal.apexbrasil.com.br/evento/lancamento-do-perfil-e-oportunidades-de-exportacoes-e-investimentos-do-df/
TRANSP:OPAQUE
BEGIN:VALARM
ACTION:DISPLAY
TRIGGER;VALUE=DATE-TIME:20210330T000000Z
DESCRIPTION:Lembrete para Lançamento do Perfil e Oportunidades de Exportações e Investimentos do DF
END:VALARM
END:VEVENT
END:VCALENDAR
		