BEGIN:VCALENDAR
VERSION:2.0
PRODID:-//Apex-Brasil
CALSCALE:GREGORIAN
X-WR-CALNAME:Apex-Brasil
BEGIN:VEVENT
CLASS:PUBLIC
CREATED:20260420T002349Z
UID:c9002d11-9497-4d2f-8ff7-e55e0bb9b0cc
DTSTART;VALUE=DATE:20220427T000000Z
DTEND:20220427T000000Z
SUMMARY;LANGUAGE=pt-br:Lançamento PEIEX Aracaju - SE
DESCRIPTION:Evento de lançamento do PEIEX Aracaju tem como objetivo apresentar o programa de qualificação e prospectar empresas para atendimento. 
DATA: 27 DE ABRIL DE 2022
HORA: 8H 
LOCAL: PRESENCIAL: AUDITÓRIO DA FEDERAÇÃO DE INDÚSTRIA DO ESTADO DE SERGIPE (FIES) - Av. Dr. Carlos Rodrigues da Cruz, 826 - Edf. Albano Franco - Centro Administrativo Dr. Augusto Franco Aracaju/SE CEP 49081-015

LOCATION:Aracaju, Sergipe, BRASIL
URL;VALUE=URI:https://portal.apexbrasil.com.br/evento/lancamento-peiex-aracaju-se/
TRANSP:OPAQUE
BEGIN:VALARM
ACTION:DISPLAY
TRIGGER;VALUE=DATE-TIME:20220427T000000Z
DESCRIPTION:Lembrete para Lançamento PEIEX Aracaju - SE
END:VALARM
END:VEVENT
END:VCALENDAR
		