BEGIN:VCALENDAR
VERSION:2.0
PRODID:-//Apex-Brasil
CALSCALE:GREGORIAN
X-WR-CALNAME:Apex-Brasil
BEGIN:VEVENT
CLASS:PUBLIC
CREATED:20260421T004718Z
UID:d09286fb-2a1d-45ee-8e76-870eb71e4e7a
DTSTART;VALUE=DATE:20150331T030000Z
DTEND:20150331T030000Z
SUMMARY;LANGUAGE=pt-br:Lançamento Projeto P&D - evento Foreign Affairs, NYC
DESCRIPTION:Lançamento de Projeto de Atração de Investimentos em Pesquisa e Desenvolvimento para os setores de TI, Equipamentos Médicos, Petróleo e Gás e Energias Renováveis.
LOCATION:Nova York, , Estados Unidos
URL;VALUE=URI:https://portal.apexbrasil.com.br/evento/lancamento-projeto-p-d-evento-foreign-affairs-nyc/
TRANSP:OPAQUE
BEGIN:VALARM
ACTION:DISPLAY
TRIGGER;VALUE=DATE-TIME:20150331T030000Z
DESCRIPTION:Lembrete para Lançamento Projeto P&D - evento Foreign Affairs, NYC
END:VALARM
END:VEVENT
END:VCALENDAR
		