BEGIN:VCALENDAR
VERSION:2.0
PRODID:-//Apex-Brasil
CALSCALE:GREGORIAN
X-WR-CALNAME:Apex-Brasil
BEGIN:VEVENT
CLASS:PUBLIC
CREATED:20260422T082430Z
UID:69362a1e-7237-47a2-bc8e-777b4e147f7f
DTSTART;VALUE=DATE:20150930T030000Z
DTEND:20151003T030000Z
SUMMARY;LANGUAGE=pt-br:Marmomacc 2015
DESCRIPTION:Feira Internacional no setor de rochas ornamentais, que acontece em Verona, na Itália, participação cerca de 32 empresas do setor. A participação da Abirochas se dará através de estandes para que as empresas possam promover seus produtos. Mundialmente, a Marmomacc foi ultrapassada, em número de expositores e visitantes, pela Feira de Xiamen, na China, apesar de manter-se na vanguarda mundial da tecnologia de máquinas e equipamentos e do design de produtos.

LOCATION:Verona, , Itália
URL;VALUE=URI:https://portal.apexbrasil.com.br/evento/marmomacc-2015/
TRANSP:OPAQUE
BEGIN:VALARM
ACTION:DISPLAY
TRIGGER;VALUE=DATE-TIME:20150930T030000Z
DESCRIPTION:Lembrete para Marmomacc 2015
END:VALARM
END:VEVENT
END:VCALENDAR
		