BEGIN:VCALENDAR
VERSION:2.0
PRODID:-//Apex-Brasil
CALSCALE:GREGORIAN
X-WR-CALNAME:Apex-Brasil
BEGIN:VEVENT
CLASS:PUBLIC
CREATED:20260421T082408Z
UID:51c90d87-ab9b-ea11-a811-000d3ac18841
DTSTART;VALUE=DATE:20200915T030000Z
DTEND:20200917T030000Z
SUMMARY;LANGUAGE=pt-br:Midsize Enterprise Summit Fall 2020
DESCRIPTION:Evento focado em geração de oportunidades de negócios com foco nos executivos de TI, tem apoio de conteúdo do Gartner e é somente para convidados, ou seja, os executivos de TI são selecionados a partir de critérios de projeto e compra.

LOCATION:Arizona, , ESTADOS UNIDOS
URL;VALUE=URI:https://portal.apexbrasil.com.br/evento/midsize-enterprise-summit-fall-2020/
TRANSP:OPAQUE
BEGIN:VALARM
ACTION:DISPLAY
TRIGGER;VALUE=DATE-TIME:20200915T030000Z
DESCRIPTION:Lembrete para Midsize Enterprise Summit Fall 2020
END:VALARM
END:VEVENT
END:VCALENDAR
		