BEGIN:VCALENDAR
VERSION:2.0
PRODID:-//Apex-Brasil
CALSCALE:GREGORIAN
X-WR-CALNAME:Apex-Brasil
BEGIN:VEVENT
CLASS:PUBLIC
CREATED:20260419T173117Z
UID:46feb3df-6006-477c-91ef-35fcf192c14c
DTSTART;VALUE=DATE:20160214T020000Z
DTEND:20160217T020000Z
SUMMARY;LANGUAGE=pt-br:Mipel: The Bagshow
DESCRIPTION:A Feira Mipel Bagshow ocorre em Milão e recebe compradores de todo continente europeu. Isto porque é o evento internacional de maior prestigio mundial quando o assunto é moda e acessórios de couro.

LOCATION:Milão, , Itália
URL;VALUE=URI:https://portal.apexbrasil.com.br/evento/mipel-the-bagshow/
TRANSP:OPAQUE
BEGIN:VALARM
ACTION:DISPLAY
TRIGGER;VALUE=DATE-TIME:20160214T020000Z
DESCRIPTION:Lembrete para Mipel: The Bagshow
END:VALARM
END:VEVENT
END:VCALENDAR
		