BEGIN:VCALENDAR
VERSION:2.0
PRODID:-//Apex-Brasil
CALSCALE:GREGORIAN
X-WR-CALNAME:Apex-Brasil
BEGIN:VEVENT
CLASS:PUBLIC
CREATED:20260423T133329Z
UID:bde95607-4be8-4b83-8ac2-e122a9f67861
DTSTART;VALUE=DATE:20160620T030000Z
DTEND:20160624T030000Z
SUMMARY;LANGUAGE=pt-br:Missão 4 Europa - Alemanha/Inglaterra
DESCRIPTION:Missão prospectiva de EIBTs com potencial de internacionalização para os mercados alvos de destino combinada com a identificação e seleção de potenciais parceiros ou compradores chave dessas EIBTs. Estes compradores ou parceiros chaves serão identificados com base nos AIs participantes da rede land2land no exterior, profissionais/empresas qualificadas em matchmaking e com apoio dos escritórios da Apex-Brasil no exterior bem como da rede de relacionamento disponível por meio desses.
LOCATION:Londres, , Inglaterra
URL;VALUE=URI:https://portal.apexbrasil.com.br/evento/missao-4-europa-alemanha-inglaterra/
TRANSP:OPAQUE
BEGIN:VALARM
ACTION:DISPLAY
TRIGGER;VALUE=DATE-TIME:20160620T030000Z
DESCRIPTION:Lembrete para Missão 4 Europa - Alemanha/Inglaterra
END:VALARM
END:VEVENT
END:VCALENDAR
		